BEGIN:VCALENDAR
VERSION:2.0
PRODID:-//JustSpeak-kursy angielskiego, obozy językowe w Polsce
CALSCALE:GREGORIAN
METHOD:PUBLISH
X-WR-CALNAME:JustSpeak-kursy angielskiego, obozy językowe w Polsce
X-ORIGINAL-URL:https://justspeak.pl/event/oboz-jezykowy-dla-dzieci/
X-WR-CALDESC:Program Junior<br/>07-12.07.2024<br/>1 MIEJSCE
BEGIN:VEVENT
DTSTART:20240707T000000
DTEND:20240712T000000
SUMMARY:Program Junior<br/>07-12.07.2024<br/>1 MIEJSCE
DESCRIPTION:Just Speak to zanurzenie się w języku angielskim. Podczas Programu Junior czas zabawy przeplata się z nauką poprzez realizowanie projektów w ramach gier i zabaw wymagających ciągłej komunikacji.  Just Speak to intensywny i skuteczny kurs wykorzystujący immersję językową.
LOCATION:Hotel Delicjusz
END:VEVENT
END:VCALENDAR
